BEGIN:VCALENDAR
VERSION:2.0
PRODID:-//Keolis Commuter Services - ECPv6.15.20//NONSGML v1.0//EN
CALSCALE:GREGORIAN
METHOD:PUBLISH
X-ORIGINAL-URL:https://massbytrain.com
X-WR-CALDESC:Events for Keolis Commuter Services
REFRESH-INTERVAL;VALUE=DURATION:PT1H
X-Robots-Tag:noindex
X-PUBLISHED-TTL:PT1H
BEGIN:VTIMEZONE
TZID:America/New_York
BEGIN:DAYLIGHT
TZOFFSETFROM:-0500
TZOFFSETTO:-0400
TZNAME:EDT
DTSTART:20250309T070000
END:DAYLIGHT
BEGIN:STANDARD
TZOFFSETFROM:-0400
TZOFFSETTO:-0500
TZNAME:EST
DTSTART:20251102T060000
END:STANDARD
BEGIN:DAYLIGHT
TZOFFSETFROM:-0500
TZOFFSETTO:-0400
TZNAME:EDT
DTSTART:20260308T070000
END:DAYLIGHT
BEGIN:STANDARD
TZOFFSETFROM:-0400
TZOFFSETTO:-0500
TZNAME:EST
DTSTART:20261101T060000
END:STANDARD
BEGIN:DAYLIGHT
TZOFFSETFROM:-0500
TZOFFSETTO:-0400
TZNAME:EDT
DTSTART:20270314T070000
END:DAYLIGHT
BEGIN:STANDARD
TZOFFSETFROM:-0400
TZOFFSETTO:-0500
TZNAME:EST
DTSTART:20271107T060000
END:STANDARD
END:VTIMEZONE
BEGIN:VEVENT
DTSTART;TZID=America/New_York:20260422T093000
DTEND;TZID=America/New_York:20260422T160000
DTSTAMP:20260421T044521
CREATED:20260221T143908Z
LAST-MODIFIED:20260420T085745Z
UID:10019997-1776850200-1776873600@massbytrain.com
SUMMARY:The American Revolution: A story of the War in 28 Paintings
DESCRIPTION:1776 was more than a turning point; it marked the birth of a new world order. A bold line was drawn as ordinary people made extraordinary decisions\, declaring independence from the most powerful empire on earth. Driven by youthful fire\, they believed in the promise of liberty more than they feared the cost of pursuing it.\nHistoric Beverly proudly presents The American Revolution: A story of the War in 28 Paintings\, a once-in-a-lifetime exhibition of artworks commissioned to illustrate Senator Henry Cabot Lodge Sr.’s landmark book.\nThese paintings are featured in Ken Burns’ upcoming documentary The American Revolution. The exhibit will be on display at the Cabot House from September 6\, 2025 to July 4\, 2026. Tickets are free and open to the public
URL:https://massbytrain.com/event/the-american-revolution-a-story-of-the-war-in-28-paintings-23/
LOCATION:Cabot House\, 117 Cabot Street\, Beverly\, MA\, 01915\, United States
CATEGORIES:Arts,Exhibit,Historical
ATTACH;FMTTYPE=image/jpeg:https://massbytrain.com/wp-content/uploads/2024/05/HB-Revolution_logo_4C-QfA7Q9.jpe
END:VEVENT
BEGIN:VEVENT
DTSTART;TZID=America/New_York:20260422T140000
DTEND;TZID=America/New_York:20260422T150000
DTSTAMP:20260421T044521
CREATED:20260404T050235Z
LAST-MODIFIED:20260420T085800Z
UID:10020880-1776866400-1776870000@massbytrain.com
SUMMARY:CAM Talk: To Live like an Artist\, Cape Ann of the 1920s\, by Martha Oaks
DESCRIPTION:Wednesday\, April 22\, 2026\n2:00 p.m. – 3:00 p.m.\nJanet & William Ellery James Center\, CAM Green\n13 Poplar Street\, Gloucester\, MA 01930\nCAM Members $5\, Non-Members $10.\nRegistration Required. Parking is first come\, first served and carpooling is encouraged. \nThis talk by Martha Oaks\, the Museum’s Chief Curator and contributing author to the upcoming Avery\, Gottlieb\, & Rothko: By the Sea exhibition\, will explore Milton Avery and Sally Michel’s earliest visits to Gloucester\, setting the stage for future stays with artist friends. What was it that drew the couple here and inspired them to keep coming back? Who did they rub shoulders with on Cape Ann and who was taking note of their work? Learn what has changed in the local art colony over the past century and what has stayed the same. \nThis lecture is presented in conjunction with the museum’s upcoming exhibition\, Avery\, Gottlieb\, & Rothko: By the Sea\, offering context and insight into the artists and themes in the exhibit. For more information about upcoming lectures for the exhibition\, please visit the Events Calendar. \nMartha Oaks is the Henrietta Gates and Heaton Robertson Chief Curator of the Cape Ann Museum. She has written extensively on the art\, artists\, history\, and culture of Gloucester\, Massachusetts\, and Cape Ann\, contributing catalog entries\, articles\, and essays. Oaks has curated numerous exhibitions exploring the history and the artists of Cape Ann and has contributed to Fitz Henry Lane Online\, a digital resource and catalog to the American marine artist. She holds an MA in American and New England Studies from Boston University and a BA from Colby College. \nImage Credit: Gloucester Chamber of Commerce booster car\, 1925. Cape Ann Museum\, Gloucester\, Massachusetts
URL:https://massbytrain.com/event/cam-talk-to-live-like-an-artist-cape-ann-of-the-1920s-by-martha-oaks/
LOCATION:Cape Ann Museum Green\, 13 Poplar Street\, Gloucester\, MA\, 01930\, United States
CATEGORIES:Arts,Exhibit,Historical,Lecture/Talk
ATTACH;FMTTYPE=image/jpeg:https://massbytrain.com/wp-content/uploads/2024/05/600x400-Meet-Me-at-Gloucester-Poster-Martha-CAM-Talk-i687AL.jpe
ORGANIZER;CN="Cape Ann Museum":MAILTO:info@capeannmuseum.org
END:VEVENT
BEGIN:VEVENT
DTSTART;TZID=America/New_York:20260422T140000
DTEND;TZID=America/New_York:20260422T150000
DTSTAMP:20260421T044521
CREATED:20260404T050237Z
LAST-MODIFIED:20260420T085801Z
UID:10020881-1776866400-1776870000@massbytrain.com
SUMMARY:A Sailor’s Life: Food & Medicine
DESCRIPTION:Step into the world of 18th-century sailors and discover how crews survived long voyages at sea. In this hands-on program\, kids will learn what sailors ate\, how they kept food from spoiling\, and what they did when someone got sick at sea. \nBecome part of a “crew\,” choose supplies for your ship\, try salting green beans\, and even help mix a remedy for scurvy. Led by educator Dan Marshall\, this interactive program brings history to life through fun activities and demonstrations. \nThis FREE program is best for kids ages 7+\, but all young explorers are welcome! Space is limited\, so please only register the children who will be joining so we can make sure we have enough materials.
URL:https://massbytrain.com/event/a-sailors-life-food-medicine/
LOCATION:Salem Armory Visitor Center\, 2 New Liberty Street\, Salem\, MA\, 01970\, United States
CATEGORIES:Culinary/Tastings,Family,Historical,School Vacation
ATTACH;FMTTYPE=image/png:https://massbytrain.com/wp-content/uploads/2024/05/A-Sailors-Life-Food-Medicine-1-gT0wsG.png
ORGANIZER;CN="Essex Heritage":MAILTO:info@essexheritage.org
END:VEVENT
BEGIN:VEVENT
DTSTART;TZID=America/New_York:20260423T140000
DTEND;TZID=America/New_York:20260423T150000
DTSTAMP:20260421T044521
CREATED:20260404T050259Z
LAST-MODIFIED:20260420T085820Z
UID:10020887-1776952800-1776956400@massbytrain.com
SUMMARY:Elephants and Sweet Treats: A Storytime of Salem Firsts!
DESCRIPTION:Did you know that Salem had the first elephant to ever set foot in America? It’s true! \nJoin us and the Salem Public Library at the Salem Armory Visitor Center for a storytime of Salem firsts – we’ll be reading books\, playing games\, making a craft\, and enjoying a sweet treat at the end. This event is free and geared towards kids ages 3+\, but open to all.
URL:https://massbytrain.com/event/elephants-and-sweet-treats-a-storytime-of-salem-firsts/
LOCATION:Salem Armory Visitor Center\, 2 New Liberty Street\, Salem\, MA\, 01970\, United States
CATEGORIES:Arts,Family,Historical,School Vacation
ATTACH;FMTTYPE=image/jpeg:https://massbytrain.com/wp-content/uploads/2024/05/Elephants-and-Sweet-Treats-2026-e1774282894182-1-F9TkiX.jpe
ORGANIZER;CN="Essex Heritage":MAILTO:info@essexheritage.org
END:VEVENT
BEGIN:VEVENT
DTSTART;TZID=America/New_York:20260424T093000
DTEND;TZID=America/New_York:20260424T160000
DTSTAMP:20260421T044521
CREATED:20260223T150925Z
LAST-MODIFIED:20260420T085837Z
UID:10020037-1777023000-1777046400@massbytrain.com
SUMMARY:The American Revolution: A story of the War in 28 Paintings
DESCRIPTION:1776 was more than a turning point; it marked the birth of a new world order. A bold line was drawn as ordinary people made extraordinary decisions\, declaring independence from the most powerful empire on earth. Driven by youthful fire\, they believed in the promise of liberty more than they feared the cost of pursuing it.\nHistoric Beverly proudly presents The American Revolution: A story of the War in 28 Paintings\, a once-in-a-lifetime exhibition of artworks commissioned to illustrate Senator Henry Cabot Lodge Sr.’s landmark book.\nThese paintings are featured in Ken Burns’ upcoming documentary The American Revolution. The exhibit will be on display at the Cabot House from September 6\, 2025 to July 4\, 2026. Tickets are free and open to the public
URL:https://massbytrain.com/event/the-american-revolution-a-story-of-the-war-in-28-paintings-24/
LOCATION:Cabot House\, 117 Cabot Street\, Beverly\, MA\, 01915\, United States
CATEGORIES:Arts,Exhibit,Historical
ATTACH;FMTTYPE=image/jpeg:https://massbytrain.com/wp-content/uploads/2024/05/HB-Revolution_logo_4C-QfA7Q9.jpe
END:VEVENT
BEGIN:VEVENT
DTSTART;TZID=America/New_York:20260425T093000
DTEND;TZID=America/New_York:20260425T160000
DTSTAMP:20260421T044521
CREATED:20260224T152552Z
LAST-MODIFIED:20260420T085905Z
UID:10020044-1777109400-1777132800@massbytrain.com
SUMMARY:The American Revolution: A story of the War in 28 Paintings
DESCRIPTION:1776 was more than a turning point; it marked the birth of a new world order. A bold line was drawn as ordinary people made extraordinary decisions\, declaring independence from the most powerful empire on earth. Driven by youthful fire\, they believed in the promise of liberty more than they feared the cost of pursuing it.\nHistoric Beverly proudly presents The American Revolution: A story of the War in 28 Paintings\, a once-in-a-lifetime exhibition of artworks commissioned to illustrate Senator Henry Cabot Lodge Sr.’s landmark book.\nThese paintings are featured in Ken Burns’ upcoming documentary The American Revolution. The exhibit will be on display at the Cabot House from September 6\, 2025 to July 4\, 2026. Tickets are free and open to the public
URL:https://massbytrain.com/event/the-american-revolution-a-story-of-the-war-in-28-paintings-25/
LOCATION:Cabot House\, 117 Cabot Street\, Beverly\, MA\, 01915\, United States
CATEGORIES:Arts,Exhibit,Historical
ATTACH;FMTTYPE=image/jpeg:https://massbytrain.com/wp-content/uploads/2024/05/HB-Revolution_logo_4C-QfA7Q9.jpe
END:VEVENT
BEGIN:VEVENT
DTSTART;TZID=America/New_York:20260425T110000
DTEND;TZID=America/New_York:20260425T160000
DTSTAMP:20260421T044521
CREATED:20260224T152553Z
LAST-MODIFIED:20260420T085907Z
UID:10020045-1777114800-1777132800@massbytrain.com
SUMMARY:Seasonal Saturday Tours!
DESCRIPTION:Guided tours of the Museum of Old Newbury’s 1808 Federal-style home\, offered Saturdays this winter. History comes alive on every floor!\nNEW! Fall and Winter Guided Tours at the Museum of Old Newbury \nBeginning in mid-October\, 2025\, the Museum of Old Newbury will open its doors for guided tours every Saturday. Tours begin on the hour from 11:00 a.m. to 4:00 p.m. (last tour departs at 3:00 p.m.). Please note: certain dates are excluded\, and tours are weather permitting. \nStep back in time as your knowledgeable guide leads you through two floors of our 1808 brick Federal-style home\, where every room is filled with objects\, stories\, and memories of Old Newbury. Along the way\, you’ll hear tales of the families who lived here\, discover treasures from our collection\, and gain new insight into the rich history of Newburyport and the surrounding area. \nWhether you’re a first-time visitor or a longtime resident\, this is your chance to experience the museum in a whole new way—through a carefully curated\, guided experience designed to bring history to life.
URL:https://massbytrain.com/event/seasonal-saturday-tours-5/
LOCATION:Museum of Old Newbury\, 98 High Street\, Newburyport\, MA\, 01950\, United States
CATEGORIES:Historical
ATTACH;FMTTYPE=image/jpeg:https://massbytrain.com/wp-content/uploads/2024/05/unnamed-scaled-Z5HJTD.jpe
END:VEVENT
BEGIN:VEVENT
DTSTART;TZID=America/New_York:20260428T090000
DTEND;TZID=America/New_York:20260428T153000
DTSTAMP:20260421T044521
CREATED:20260404T050421Z
LAST-MODIFIED:20260420T085949Z
UID:10020903-1777366800-1777390200@massbytrain.com
SUMMARY:Hammond Castle Museum Daily Guided and Self-Guided Tours
DESCRIPTION:Hammond Castle Museum welcomes guests to tour the many rooms of the home and laboratory of John Hays Hammond Jr.\, renowned as one of the most prolific American inventors of the 20th century and famously known as the Father of Radio Control. \nThroughout the 2026 season guests can also enjoy a completely updated Invention Room\, showcasing exciting new perspectives on Hammond’s work as a scientist\, inventor and engineer\, as well as a brand-new set of rotating exhibits\, including “Inside the Faraday Cage: The Science of Things that Aren’t So” in the spring and summer and “Brave Too Much: The Legend of John Coffee Hays” in the fall and winter. We offer two options for daily admission: Guided and Self-Guided tours. \nGuided Tours:\nLed by a member of Hammond Castle Museum’s talented tours staff\, Guided Tours of the Museum last approximately 35-40 minutes and cover basic information about the history of the building and its inhabitants. Major areas covered by the tour staff include parts of the former Laboratory\, the vast Great Hall\, and the breathtaking Courtyard. \nAfter the guided portion of the tour\, visitors may explore the many smaller rooms and exhibit spaces in the former Hammond residence. \nSelf-Guided Tours:\nExperience Hammond Castle Museum at your own pace with our flexible arrival times for Self-Guided Tours! Your ticket grants you entry anytime within the Morning or Afternoon session times\, based upon your selection\, ensuring you can arrive stress-free and enjoy your visit to the fullest. \nMorning Session: 9:00 am – 11:45 am\nAfternoon Session: 11:45 am – 2:30 pm \nPlease note: the last entrance into the Museum is at 2:45 pm sharp. The Museum and Grounds close promptly at 3:30 pm. We recommend planning at least 60 minutes to explore the grounds and interior galleries of the Museum. \nThe Hammond Castle Museum is a historic landmark built in the late 1920s\, and as such is not handicapped accessible and presents challenges for visitors with mobility impairments\, as it features numerous stairs.
URL:https://massbytrain.com/event/hammond-castle-museum-daily-guided-and-self-guided-tours/
LOCATION:Hammond Castle Museum\, 80 Hesperus Avenue\, Gloucester\, MA\, 01930\, United States
CATEGORIES:Arts,Exhibit,Historical,Ongoing
ATTACH;FMTTYPE=image/jpeg:https://massbytrain.com/wp-content/uploads/2024/05/Self-Guided-Tours-Veevart-6-UkNk2v.jpe
ORGANIZER;CN="Hammond Castle Museum":MAILTO:info@hammondcastle.org
END:VEVENT
BEGIN:VEVENT
DTSTART;TZID=America/New_York:20260429T090000
DTEND;TZID=America/New_York:20260429T153000
DTSTAMP:20260421T044521
CREATED:20260404T050423Z
LAST-MODIFIED:20260420T085951Z
UID:10020904-1777453200-1777476600@massbytrain.com
SUMMARY:Hammond Castle Museum Daily Guided and Self-Guided Tours
DESCRIPTION:Hammond Castle Museum welcomes guests to tour the many rooms of the home and laboratory of John Hays Hammond Jr.\, renowned as one of the most prolific American inventors of the 20th century and famously known as the Father of Radio Control. \nThroughout the 2026 season guests can also enjoy a completely updated Invention Room\, showcasing exciting new perspectives on Hammond’s work as a scientist\, inventor and engineer\, as well as a brand-new set of rotating exhibits\, including “Inside the Faraday Cage: The Science of Things that Aren’t So” in the spring and summer and “Brave Too Much: The Legend of John Coffee Hays” in the fall and winter. We offer two options for daily admission: Guided and Self-Guided tours. \nGuided Tours:\nLed by a member of Hammond Castle Museum’s talented tours staff\, Guided Tours of the Museum last approximately 35-40 minutes and cover basic information about the history of the building and its inhabitants. Major areas covered by the tour staff include parts of the former Laboratory\, the vast Great Hall\, and the breathtaking Courtyard. \nAfter the guided portion of the tour\, visitors may explore the many smaller rooms and exhibit spaces in the former Hammond residence. \nSelf-Guided Tours:\nExperience Hammond Castle Museum at your own pace with our flexible arrival times for Self-Guided Tours! Your ticket grants you entry anytime within the Morning or Afternoon session times\, based upon your selection\, ensuring you can arrive stress-free and enjoy your visit to the fullest. \nMorning Session: 9:00 am – 11:45 am\nAfternoon Session: 11:45 am – 2:30 pm \nPlease note: the last entrance into the Museum is at 2:45 pm sharp. The Museum and Grounds close promptly at 3:30 pm. We recommend planning at least 60 minutes to explore the grounds and interior galleries of the Museum. \nThe Hammond Castle Museum is a historic landmark built in the late 1920s\, and as such is not handicapped accessible and presents challenges for visitors with mobility impairments\, as it features numerous stairs.
URL:https://massbytrain.com/event/hammond-castle-museum-daily-guided-and-self-guided-tours-2/
LOCATION:Hammond Castle Museum\, 80 Hesperus Avenue\, Gloucester\, MA\, 01930\, United States
CATEGORIES:Arts,Exhibit,Historical,Ongoing
ATTACH;FMTTYPE=image/jpeg:https://massbytrain.com/wp-content/uploads/2024/05/Self-Guided-Tours-Veevart-6-UkNk2v.jpe
ORGANIZER;CN="Hammond Castle Museum":MAILTO:info@hammondcastle.org
END:VEVENT
BEGIN:VEVENT
DTSTART;TZID=America/New_York:20260429T093000
DTEND;TZID=America/New_York:20260429T160000
DTSTAMP:20260421T044521
CREATED:20260228T162505Z
LAST-MODIFIED:20260420T090002Z
UID:10020162-1777455000-1777478400@massbytrain.com
SUMMARY:The American Revolution: A story of the War in 28 Paintings
DESCRIPTION:1776 was more than a turning point; it marked the birth of a new world order. A bold line was drawn as ordinary people made extraordinary decisions\, declaring independence from the most powerful empire on earth. Driven by youthful fire\, they believed in the promise of liberty more than they feared the cost of pursuing it.\nHistoric Beverly proudly presents The American Revolution: A story of the War in 28 Paintings\, a once-in-a-lifetime exhibition of artworks commissioned to illustrate Senator Henry Cabot Lodge Sr.’s landmark book.\nThese paintings are featured in Ken Burns’ upcoming documentary The American Revolution. The exhibit will be on display at the Cabot House from September 6\, 2025 to July 4\, 2026. Tickets are free and open to the public
URL:https://massbytrain.com/event/the-american-revolution-a-story-of-the-war-in-28-paintings-27/
LOCATION:Cabot House\, 117 Cabot Street\, Beverly\, MA\, 01915\, United States
CATEGORIES:Arts,Exhibit,Historical
ATTACH;FMTTYPE=image/jpeg:https://massbytrain.com/wp-content/uploads/2024/05/HB-Revolution_logo_4C-QfA7Q9.jpe
END:VEVENT
BEGIN:VEVENT
DTSTART;TZID=America/New_York:20260430T090000
DTEND;TZID=America/New_York:20260430T153000
DTSTAMP:20260421T044521
CREATED:20260404T050438Z
LAST-MODIFIED:20260420T090005Z
UID:10020906-1777539600-1777563000@massbytrain.com
SUMMARY:Hammond Castle Museum Daily Guided and Self-Guided Tours
DESCRIPTION:Hammond Castle Museum welcomes guests to tour the many rooms of the home and laboratory of John Hays Hammond Jr.\, renowned as one of the most prolific American inventors of the 20th century and famously known as the Father of Radio Control. \nThroughout the 2026 season guests can also enjoy a completely updated Invention Room\, showcasing exciting new perspectives on Hammond’s work as a scientist\, inventor and engineer\, as well as a brand-new set of rotating exhibits\, including “Inside the Faraday Cage: The Science of Things that Aren’t So” in the spring and summer and “Brave Too Much: The Legend of John Coffee Hays” in the fall and winter. We offer two options for daily admission: Guided and Self-Guided tours. \nGuided Tours:\nLed by a member of Hammond Castle Museum’s talented tours staff\, Guided Tours of the Museum last approximately 35-40 minutes and cover basic information about the history of the building and its inhabitants. Major areas covered by the tour staff include parts of the former Laboratory\, the vast Great Hall\, and the breathtaking Courtyard. \nAfter the guided portion of the tour\, visitors may explore the many smaller rooms and exhibit spaces in the former Hammond residence. \nSelf-Guided Tours:\nExperience Hammond Castle Museum at your own pace with our flexible arrival times for Self-Guided Tours! Your ticket grants you entry anytime within the Morning or Afternoon session times\, based upon your selection\, ensuring you can arrive stress-free and enjoy your visit to the fullest. \nMorning Session: 9:00 am – 11:45 am\nAfternoon Session: 11:45 am – 2:30 pm \nPlease note: the last entrance into the Museum is at 2:45 pm sharp. The Museum and Grounds close promptly at 3:30 pm. We recommend planning at least 60 minutes to explore the grounds and interior galleries of the Museum. \nThe Hammond Castle Museum is a historic landmark built in the late 1920s\, and as such is not handicapped accessible and presents challenges for visitors with mobility impairments\, as it features numerous stairs.
URL:https://massbytrain.com/event/hammond-castle-museum-daily-guided-and-self-guided-tours-3/
LOCATION:Hammond Castle Museum\, 80 Hesperus Avenue\, Gloucester\, MA\, 01930\, United States
CATEGORIES:Arts,Exhibit,Historical,Ongoing
ATTACH;FMTTYPE=image/jpeg:https://massbytrain.com/wp-content/uploads/2024/05/Self-Guided-Tours-Veevart-6-UkNk2v.jpe
ORGANIZER;CN="Hammond Castle Museum":MAILTO:info@hammondcastle.org
END:VEVENT
END:VCALENDAR