BEGIN:VCALENDAR
VERSION:2.0
PRODID:-//Keolis Commuter Services - ECPv6.15.20//NONSGML v1.0//EN
CALSCALE:GREGORIAN
METHOD:PUBLISH
X-WR-CALNAME:Keolis Commuter Services
X-ORIGINAL-URL:https://massbytrain.com
X-WR-CALDESC:Events for Keolis Commuter Services
REFRESH-INTERVAL;VALUE=DURATION:PT1H
X-Robots-Tag:noindex
X-PUBLISHED-TTL:PT1H
BEGIN:VTIMEZONE
TZID:America/New_York
BEGIN:DAYLIGHT
TZOFFSETFROM:-0500
TZOFFSETTO:-0400
TZNAME:EDT
DTSTART:20250309T070000
END:DAYLIGHT
BEGIN:STANDARD
TZOFFSETFROM:-0400
TZOFFSETTO:-0500
TZNAME:EST
DTSTART:20251102T060000
END:STANDARD
BEGIN:DAYLIGHT
TZOFFSETFROM:-0500
TZOFFSETTO:-0400
TZNAME:EDT
DTSTART:20260308T070000
END:DAYLIGHT
BEGIN:STANDARD
TZOFFSETFROM:-0400
TZOFFSETTO:-0500
TZNAME:EST
DTSTART:20261101T060000
END:STANDARD
BEGIN:DAYLIGHT
TZOFFSETFROM:-0500
TZOFFSETTO:-0400
TZNAME:EDT
DTSTART:20270314T070000
END:DAYLIGHT
BEGIN:STANDARD
TZOFFSETFROM:-0400
TZOFFSETTO:-0500
TZNAME:EST
DTSTART:20271107T060000
END:STANDARD
END:VTIMEZONE
BEGIN:VEVENT
DTSTART;TZID=America/New_York:20260523T100000
DTEND;TZID=America/New_York:20260523T120000
DTSTAMP:20260421T165755
CREATED:20260404T050916Z
LAST-MODIFIED:20260421T092030Z
UID:10020970-1779530400-1779537600@massbytrain.com
SUMMARY:Salem as Muse: Lucy Cleveland\, Author and Textile Artist
DESCRIPTION:Know before you go \nIn-person\nLocation: Morse Auditorium \nIncluded with admission; preregistration encouraged. Registration link coming soon.\nLucy Hiller (Lambert) Cleveland \, “There was an old lady who lived in a shoe..” (detail)\, 1840-1860. Paper\, watercolor\, linen\, leather\, silk\, cotton\, ink\, wood. Gift of Mr. & Mrs. Ronald Morck\, 1998. 137846. Peabody Essex Museum. Photo by Lucy Cleveland. \nIn 2026\, as part of the Salem 400+ initiative\, PEM will present “Salem as Muse\,” a series of talks that highlight works represented in PEM’s collection. These programs will explore a diverse range of subjects that connect to the unique history and character of Salem\, Massachusetts. \nCurator-at-Large Paula Richter will give a presentation centered on Lucy Cleveland: textile artist\, children’s book author\, 19th-century reformer and abolitionist. Born in Salem in 1780\, Cleveland traveled to China and Indonesia with her husband\, a sea captain\, and published more than a dozen books. One of her artworks is on display in Salem Stories. \nAbout our presenter \nPaula Richter\nSince 2009\, Paula Richter has been responsible for curatorial research and support of the museum’s changing exhibition program\, related publications and core activities within the curatorial department. She has participated on exhibition teams for more than a dozen recent and upcoming exhibitions and numerous gallery installations and rotations\, including The Salem Witch Trials 1692. She previously worked for the Cape Ann Historical Association\, the Sargent House Museum and Landmark College. A graduate of the University of New Hampshire\, Richter writes and lectures on American textiles and fashion and New England art and decorative arts. She also leads PEM’s partnership with Handwork 2026\, presented by Craft in America.
URL:https://massbytrain.com/event/salem-as-muse-lucy-cleveland-author-and-textile-artist/
LOCATION:Peabody Essex Museum\, East India Square\, 161 Essex Street\, Salem\, MA\, 01970\, United States
ATTACH;FMTTYPE=image/jpeg:https://massbytrain.com/wp-content/uploads/2024/05/Salem-as-Muse-Lucy-Cleveland-Author-and-Textile-Artist-Jrviop.jpe
ORGANIZER;CN="Peabody Essex Museum":MAILTO:information@pem.org
END:VEVENT
BEGIN:VEVENT
DTSTART;TZID=America/New_York:20260523T100000
DTEND;TZID=America/New_York:20260523T170000
DTSTAMP:20260421T165755
CREATED:20260324T222629Z
LAST-MODIFIED:20260403T045205Z
UID:10020634-1779530400-1779555600@massbytrain.com
SUMMARY:Salem Film Fest
DESCRIPTION:Since 2007\, Salem Film Fest (SFF) has brought the world’s best independent documentaries and their makers to the North Shore. Going into its 19th year\, this celebration of documentary filmmaking presents a diverse collection of the year’s best work from all over the world. \nThe Fest will take place March 26–29 at three local venues: Cinema Salem\, the Peabody Essex Museum and the National Park Service Visitor Center. Enjoy three days of in-person screenings at PEM\, plus filmmaker Q&As\, parties and other special events around town. \nThe official film lineup and schedule will be shared soon on the Salem Film Fest website. \nCheck out PEM’s exhibition Beyond the Broom: Salem Short Films\, featuring documentaries from past years of the Fest\, opening March 28. \nThis festival is made possible by volunteers from the Salem Community Arts Center\, Inc. PEM is proud to be the presenting sponsor of Salem Film Fest 2026.
URL:https://massbytrain.com/event/salem-film-fest-58/
LOCATION:Peabody Essex Museum\, East India Square\, 161 Essex Street\, Salem\, MA\, 01970\, United States
ATTACH;FMTTYPE=image/jpeg:https://massbytrain.com/wp-content/uploads/2026/02/Salem-Film-Fest-ph6Z0g.jpe
ORGANIZER;CN="Peabody Essex Museum":MAILTO:information@pem.org
END:VEVENT
BEGIN:VEVENT
DTSTART;TZID=America/New_York:20260524T100000
DTEND;TZID=America/New_York:20260524T170000
DTSTAMP:20260421T165755
CREATED:20260325T224112Z
LAST-MODIFIED:20260403T045208Z
UID:10020642-1779616800-1779642000@massbytrain.com
SUMMARY:Salem Film Fest
DESCRIPTION:Since 2007\, Salem Film Fest (SFF) has brought the world’s best independent documentaries and their makers to the North Shore. Going into its 19th year\, this celebration of documentary filmmaking presents a diverse collection of the year’s best work from all over the world. \nThe Fest will take place March 26–29 at three local venues: Cinema Salem\, the Peabody Essex Museum and the National Park Service Visitor Center. Enjoy three days of in-person screenings at PEM\, plus filmmaker Q&As\, parties and other special events around town. \nThe official film lineup and schedule will be shared soon on the Salem Film Fest website. \nCheck out PEM’s exhibition Beyond the Broom: Salem Short Films\, featuring documentaries from past years of the Fest\, opening March 28. \nThis festival is made possible by volunteers from the Salem Community Arts Center\, Inc. PEM is proud to be the presenting sponsor of Salem Film Fest 2026.
URL:https://massbytrain.com/event/salem-film-fest-59/
LOCATION:Peabody Essex Museum\, East India Square\, 161 Essex Street\, Salem\, MA\, 01970\, United States
ATTACH;FMTTYPE=image/jpeg:https://massbytrain.com/wp-content/uploads/2026/02/Salem-Film-Fest-ph6Z0g.jpe
ORGANIZER;CN="Peabody Essex Museum":MAILTO:information@pem.org
END:VEVENT
BEGIN:VEVENT
DTSTART;TZID=America/New_York:20260525T100000
DTEND;TZID=America/New_York:20260525T170000
DTSTAMP:20260421T165755
CREATED:20260327T231045Z
LAST-MODIFIED:20260403T045220Z
UID:10020691-1779703200-1779728400@massbytrain.com
SUMMARY:Salem Film Fest
DESCRIPTION:Since 2007\, Salem Film Fest (SFF) has brought the world’s best independent documentaries and their makers to the North Shore. Going into its 19th year\, this celebration of documentary filmmaking presents a diverse collection of the year’s best work from all over the world. \nThe Fest will take place March 26–29 at three local venues: Cinema Salem\, the Peabody Essex Museum and the National Park Service Visitor Center. Enjoy three days of in-person screenings at PEM\, plus filmmaker Q&As\, parties and other special events around town. \nThe official film lineup and schedule will be shared soon on the Salem Film Fest website. \nCheck out PEM’s exhibition Beyond the Broom: Salem Short Films\, featuring documentaries from past years of the Fest\, opening March 28. \nThis festival is made possible by volunteers from the Salem Community Arts Center\, Inc. PEM is proud to be the presenting sponsor of Salem Film Fest 2026.
URL:https://massbytrain.com/event/salem-film-fest-60/
LOCATION:Peabody Essex Museum\, East India Square\, 161 Essex Street\, Salem\, MA\, 01970\, United States
ATTACH;FMTTYPE=image/jpeg:https://massbytrain.com/wp-content/uploads/2026/02/Salem-Film-Fest-ph6Z0g.jpe
ORGANIZER;CN="Peabody Essex Museum":MAILTO:information@pem.org
END:VEVENT
BEGIN:VEVENT
DTSTART;TZID=America/New_York:20260526T100000
DTEND;TZID=America/New_York:20260526T170000
DTSTAMP:20260421T165755
CREATED:20260327T231100Z
LAST-MODIFIED:20260403T045223Z
UID:10020695-1779789600-1779814800@massbytrain.com
SUMMARY:Salem Film Fest
DESCRIPTION:Since 2007\, Salem Film Fest (SFF) has brought the world’s best independent documentaries and their makers to the North Shore. Going into its 19th year\, this celebration of documentary filmmaking presents a diverse collection of the year’s best work from all over the world. \nThe Fest will take place March 26–29 at three local venues: Cinema Salem\, the Peabody Essex Museum and the National Park Service Visitor Center. Enjoy three days of in-person screenings at PEM\, plus filmmaker Q&As\, parties and other special events around town. \nThe official film lineup and schedule will be shared soon on the Salem Film Fest website. \nCheck out PEM’s exhibition Beyond the Broom: Salem Short Films\, featuring documentaries from past years of the Fest\, opening March 28. \nThis festival is made possible by volunteers from the Salem Community Arts Center\, Inc. PEM is proud to be the presenting sponsor of Salem Film Fest 2026.
URL:https://massbytrain.com/event/salem-film-fest-61/
LOCATION:Peabody Essex Museum\, East India Square\, 161 Essex Street\, Salem\, MA\, 01970\, United States
ATTACH;FMTTYPE=image/jpeg:https://massbytrain.com/wp-content/uploads/2026/02/Salem-Film-Fest-ph6Z0g.jpe
ORGANIZER;CN="Peabody Essex Museum":MAILTO:information@pem.org
END:VEVENT
BEGIN:VEVENT
DTSTART;TZID=America/New_York:20260527T100000
DTEND;TZID=America/New_York:20260527T170000
DTSTAMP:20260421T165755
CREATED:20260328T232515Z
LAST-MODIFIED:20260403T045225Z
UID:10020702-1779876000-1779901200@massbytrain.com
SUMMARY:Salem Film Fest
DESCRIPTION:Since 2007\, Salem Film Fest (SFF) has brought the world’s best independent documentaries and their makers to the North Shore. Going into its 19th year\, this celebration of documentary filmmaking presents a diverse collection of the year’s best work from all over the world. \nThe Fest will take place March 26–29 at three local venues: Cinema Salem\, the Peabody Essex Museum and the National Park Service Visitor Center. Enjoy three days of in-person screenings at PEM\, plus filmmaker Q&As\, parties and other special events around town. \nThe official film lineup and schedule will be shared soon on the Salem Film Fest website. \nCheck out PEM’s exhibition Beyond the Broom: Salem Short Films\, featuring documentaries from past years of the Fest\, opening March 28. \nThis festival is made possible by volunteers from the Salem Community Arts Center\, Inc. PEM is proud to be the presenting sponsor of Salem Film Fest 2026.
URL:https://massbytrain.com/event/salem-film-fest/
LOCATION:Peabody Essex Museum\, East India Square\, 161 Essex Street\, Salem\, MA\, 01970\, United States
ATTACH;FMTTYPE=image/jpeg:https://massbytrain.com/wp-content/uploads/2026/02/Salem-Film-Fest-ph6Z0g.jpe
ORGANIZER;CN="Peabody Essex Museum":MAILTO:information@pem.org
END:VEVENT
BEGIN:VEVENT
DTSTART;TZID=America/New_York:20260528T100000
DTEND;TZID=America/New_York:20260528T170000
DTSTAMP:20260421T165755
CREATED:20260329T234030Z
LAST-MODIFIED:20260403T045239Z
UID:10020715-1779962400-1779987600@massbytrain.com
SUMMARY:Salem Film Fest
DESCRIPTION:Since 2007\, Salem Film Fest (SFF) has brought the world’s best independent documentaries and their makers to the North Shore. Going into its 19th year\, this celebration of documentary filmmaking presents a diverse collection of the year’s best work from all over the world. \nThe Fest will take place March 26–29 at three local venues: Cinema Salem\, the Peabody Essex Museum and the National Park Service Visitor Center. Enjoy three days of in-person screenings at PEM\, plus filmmaker Q&As\, parties and other special events around town. \nThe official film lineup and schedule will be shared soon on the Salem Film Fest website. \nCheck out PEM’s exhibition Beyond the Broom: Salem Short Films\, featuring documentaries from past years of the Fest\, opening March 28. \nThis festival is made possible by volunteers from the Salem Community Arts Center\, Inc. PEM is proud to be the presenting sponsor of Salem Film Fest 2026.
URL:https://massbytrain.com/event/salem-film-fest-3/
LOCATION:Peabody Essex Museum\, East India Square\, 161 Essex Street\, Salem\, MA\, 01970\, United States
ATTACH;FMTTYPE=image/jpeg:https://massbytrain.com/wp-content/uploads/2026/02/Salem-Film-Fest-ph6Z0g.jpe
ORGANIZER;CN="Peabody Essex Museum":MAILTO:information@pem.org
END:VEVENT
BEGIN:VEVENT
DTSTART;TZID=America/New_York:20260529T100000
DTEND;TZID=America/New_York:20260529T170000
DTSTAMP:20260421T165755
CREATED:20260330T235528Z
LAST-MODIFIED:20260403T045256Z
UID:10020733-1780048800-1780074000@massbytrain.com
SUMMARY:Salem Film Fest
DESCRIPTION:Since 2007\, Salem Film Fest (SFF) has brought the world’s best independent documentaries and their makers to the North Shore. Going into its 19th year\, this celebration of documentary filmmaking presents a diverse collection of the year’s best work from all over the world. \nThe Fest will take place March 26–29 at three local venues: Cinema Salem\, the Peabody Essex Museum and the National Park Service Visitor Center. Enjoy three days of in-person screenings at PEM\, plus filmmaker Q&As\, parties and other special events around town. \nThe official film lineup and schedule will be shared soon on the Salem Film Fest website. \nCheck out PEM’s exhibition Beyond the Broom: Salem Short Films\, featuring documentaries from past years of the Fest\, opening March 28. \nThis festival is made possible by volunteers from the Salem Community Arts Center\, Inc. PEM is proud to be the presenting sponsor of Salem Film Fest 2026.
URL:https://massbytrain.com/event/salem-film-fest-4/
LOCATION:Peabody Essex Museum\, East India Square\, 161 Essex Street\, Salem\, MA\, 01970\, United States
ATTACH;FMTTYPE=image/jpeg:https://massbytrain.com/wp-content/uploads/2026/02/Salem-Film-Fest-ph6Z0g.jpe
ORGANIZER;CN="Peabody Essex Museum":MAILTO:information@pem.org
END:VEVENT
BEGIN:VEVENT
DTSTART;TZID=America/New_York:20260530T100000
DTEND;TZID=America/New_York:20260530T170000
DTSTAMP:20260421T165755
CREATED:20260401T001050Z
LAST-MODIFIED:20260403T045258Z
UID:10020749-1780135200-1780160400@massbytrain.com
SUMMARY:Salem Film Fest
DESCRIPTION:Since 2007\, Salem Film Fest (SFF) has brought the world’s best independent documentaries and their makers to the North Shore. Going into its 19th year\, this celebration of documentary filmmaking presents a diverse collection of the year’s best work from all over the world. \nThe Fest will take place March 26–29 at three local venues: Cinema Salem\, the Peabody Essex Museum and the National Park Service Visitor Center. Enjoy three days of in-person screenings at PEM\, plus filmmaker Q&As\, parties and other special events around town. \nThe official film lineup and schedule will be shared soon on the Salem Film Fest website. \nCheck out PEM’s exhibition Beyond the Broom: Salem Short Films\, featuring documentaries from past years of the Fest\, opening March 28. \nThis festival is made possible by volunteers from the Salem Community Arts Center\, Inc. PEM is proud to be the presenting sponsor of Salem Film Fest 2026.
URL:https://massbytrain.com/event/salem-film-fest-5/
LOCATION:Peabody Essex Museum\, East India Square\, 161 Essex Street\, Salem\, MA\, 01970\, United States
ATTACH;FMTTYPE=image/jpeg:https://massbytrain.com/wp-content/uploads/2026/02/Salem-Film-Fest-ph6Z0g.jpe
ORGANIZER;CN="Peabody Essex Museum":MAILTO:information@pem.org
END:VEVENT
BEGIN:VEVENT
DTSTART;TZID=America/New_York:20260531T100000
DTEND;TZID=America/New_York:20260531T170000
DTSTAMP:20260421T165755
CREATED:20260402T002547Z
LAST-MODIFIED:20260403T045313Z
UID:10020760-1780221600-1780246800@massbytrain.com
SUMMARY:Salem Film Fest
DESCRIPTION:Since 2007\, Salem Film Fest (SFF) has brought the world’s best independent documentaries and their makers to the North Shore. Going into its 19th year\, this celebration of documentary filmmaking presents a diverse collection of the year’s best work from all over the world. \nThe Fest will take place March 26–29 at three local venues: Cinema Salem\, the Peabody Essex Museum and the National Park Service Visitor Center. Enjoy three days of in-person screenings at PEM\, plus filmmaker Q&As\, parties and other special events around town. \nThe official film lineup and schedule will be shared soon on the Salem Film Fest website. \nCheck out PEM’s exhibition Beyond the Broom: Salem Short Films\, featuring documentaries from past years of the Fest\, opening March 28. \nThis festival is made possible by volunteers from the Salem Community Arts Center\, Inc. PEM is proud to be the presenting sponsor of Salem Film Fest 2026.
URL:https://massbytrain.com/event/salem-film-fest-2/
LOCATION:Peabody Essex Museum\, East India Square\, 161 Essex Street\, Salem\, MA\, 01970\, United States
ATTACH;FMTTYPE=image/jpeg:https://massbytrain.com/wp-content/uploads/2026/02/Salem-Film-Fest-ph6Z0g.jpe
ORGANIZER;CN="Peabody Essex Museum":MAILTO:information@pem.org
END:VEVENT
BEGIN:VEVENT
DTSTART;TZID=America/New_York:20260531T140000
DTEND;TZID=America/New_York:20260531T160000
DTSTAMP:20260421T165755
CREATED:20260404T051029Z
LAST-MODIFIED:20260421T092129Z
UID:10020987-1780236000-1780243200@massbytrain.com
SUMMARY:PEM Presents Vivaldi with Symphony by the Sea
DESCRIPTION:Join us for a concert and talk with the North Shore’s professional symphony orchestra\, Symphony by the Sea. Over the centuries\, the four seasons have inspired numerous composers to represent their moods in music. During the Baroque period (1500-1750)\, many composers produced cycles of concertos representing the seasons. Antonio Vivaldi used four sonnets of his own creation as a starting point for the vivid and lively music of his Four Seasons. Follow the sonnets together with Maestro Donald Palma\, then enjoy a virtuosic performance. \nThe program will include a 20-minute talk by Maestro Donald Palma and an approximately 45-minute performance of the Four Seasons\, followed by a light reception. \nPEM Presents is made possible by The Joseph and Robert Cornell Memorial Foundation.
URL:https://massbytrain.com/event/pem-presents-vivaldi-with-symphony-by-the-sea/
LOCATION:Peabody Essex Museum\, East India Square\, 161 Essex Street\, Salem\, MA\, 01970\, United States
ATTACH;FMTTYPE=image/jpeg:https://massbytrain.com/wp-content/uploads/2024/05/Vivaldi-with-Symphony-by-the-Sea-Pv5mi3.jpe
ORGANIZER;CN="Peabody Essex Museum":MAILTO:information@pem.org
END:VEVENT
BEGIN:VEVENT
DTSTART;TZID=America/New_York:20260601T100000
DTEND;TZID=America/New_York:20260601T170000
DTSTAMP:20260421T165755
CREATED:20260402T002601Z
LAST-MODIFIED:20260403T045315Z
UID:10020764-1780308000-1780333200@massbytrain.com
SUMMARY:Salem Film Fest
DESCRIPTION:Since 2007\, Salem Film Fest (SFF) has brought the world’s best independent documentaries and their makers to the North Shore. Going into its 19th year\, this celebration of documentary filmmaking presents a diverse collection of the year’s best work from all over the world. \nThe Fest will take place March 26–29 at three local venues: Cinema Salem\, the Peabody Essex Museum and the National Park Service Visitor Center. Enjoy three days of in-person screenings at PEM\, plus filmmaker Q&As\, parties and other special events around town. \nThe official film lineup and schedule will be shared soon on the Salem Film Fest website. \nCheck out PEM’s exhibition Beyond the Broom: Salem Short Films\, featuring documentaries from past years of the Fest\, opening March 28. \nThis festival is made possible by volunteers from the Salem Community Arts Center\, Inc. PEM is proud to be the presenting sponsor of Salem Film Fest 2026.
URL:https://massbytrain.com/event/salem-film-fest-62/
LOCATION:Peabody Essex Museum\, East India Square\, 161 Essex Street\, Salem\, MA\, 01970\, United States
ATTACH;FMTTYPE=image/jpeg:https://massbytrain.com/wp-content/uploads/2026/02/Salem-Film-Fest-ph6Z0g.jpe
ORGANIZER;CN="Peabody Essex Museum":MAILTO:information@pem.org
END:VEVENT
BEGIN:VEVENT
DTSTART;TZID=America/New_York:20260602T100000
DTEND;TZID=America/New_York:20260602T170000
DTSTAMP:20260421T165755
CREATED:20260403T023852Z
LAST-MODIFIED:20260403T045317Z
UID:10020805-1780394400-1780419600@massbytrain.com
SUMMARY:Salem Film Fest
DESCRIPTION:Since 2007\, Salem Film Fest (SFF) has brought the world’s best independent documentaries and their makers to the North Shore. Going into its 19th year\, this celebration of documentary filmmaking presents a diverse collection of the year’s best work from all over the world. \nThe Fest will take place March 26–29 at three local venues: Cinema Salem\, the Peabody Essex Museum and the National Park Service Visitor Center. Enjoy three days of in-person screenings at PEM\, plus filmmaker Q&As\, parties and other special events around town. \nThe official film lineup and schedule will be shared soon on the Salem Film Fest website. \nCheck out PEM’s exhibition Beyond the Broom: Salem Short Films\, featuring documentaries from past years of the Fest\, opening March 28. \nThis festival is made possible by volunteers from the Salem Community Arts Center\, Inc. PEM is proud to be the presenting sponsor of Salem Film Fest 2026.
URL:https://massbytrain.com/event/salem-film-fest-6/
LOCATION:Peabody Essex Museum\, East India Square\, 161 Essex Street\, Salem\, MA\, 01970\, United States
ATTACH;FMTTYPE=image/jpeg:https://massbytrain.com/wp-content/uploads/2026/02/Salem-Film-Fest-ph6Z0g.jpe
ORGANIZER;CN="Peabody Essex Museum":MAILTO:information@pem.org
END:VEVENT
END:VCALENDAR