BEGIN:VCALENDAR
VERSION:2.0
PRODID:-//Keolis Commuter Services - ECPv6.15.20//NONSGML v1.0//EN
CALSCALE:GREGORIAN
METHOD:PUBLISH
X-WR-CALNAME:Keolis Commuter Services
X-ORIGINAL-URL:https://massbytrain.com
X-WR-CALDESC:Events for Keolis Commuter Services
REFRESH-INTERVAL;VALUE=DURATION:PT1H
X-Robots-Tag:noindex
X-PUBLISHED-TTL:PT1H
BEGIN:VTIMEZONE
TZID:America/New_York
BEGIN:DAYLIGHT
TZOFFSETFROM:-0500
TZOFFSETTO:-0400
TZNAME:EDT
DTSTART:20250309T070000
END:DAYLIGHT
BEGIN:STANDARD
TZOFFSETFROM:-0400
TZOFFSETTO:-0500
TZNAME:EST
DTSTART:20251102T060000
END:STANDARD
BEGIN:DAYLIGHT
TZOFFSETFROM:-0500
TZOFFSETTO:-0400
TZNAME:EDT
DTSTART:20260308T070000
END:DAYLIGHT
BEGIN:STANDARD
TZOFFSETFROM:-0400
TZOFFSETTO:-0500
TZNAME:EST
DTSTART:20261101T060000
END:STANDARD
BEGIN:DAYLIGHT
TZOFFSETFROM:-0500
TZOFFSETTO:-0400
TZNAME:EDT
DTSTART:20270314T070000
END:DAYLIGHT
BEGIN:STANDARD
TZOFFSETFROM:-0400
TZOFFSETTO:-0500
TZNAME:EST
DTSTART:20271107T060000
END:STANDARD
END:VTIMEZONE
BEGIN:VEVENT
DTSTART;TZID=America/New_York:20260425T100000
DTEND;TZID=America/New_York:20260425T150000
DTSTAMP:20260419T184704
CREATED:20260224T110449Z
LAST-MODIFIED:20260419T011414Z
UID:10020039-1777111200-1777129200@massbytrain.com
SUMMARY:Annual Herring Run Festival (Plymouth)
DESCRIPTION:Join us on Saturday\, April 25th\, 10am – 3pm\, in Brewster Gardens and along Jenney Pond Park for a day of family-friendly activities including herring counts\, alewife art\, games\, live music & more! Chat with local scientists\, help contribute to ongoing herring research\, and take a photo with Happy Fish! \nHappy Fish©\, created by World Fish Migration Day\, is a symbol that connects people\, organizations\, and projects aiming to restore free-flowing rivers for fish populations. Get excited as Happy Fish makes its way to Plymouth\, MA! Rain Date April 26. \nMore information and updates may be checked Here or on the Event Website.
URL:https://massbytrain.com/event/annual-herring-run-festival-plymouth/
LOCATION:Brewster Gardens\, 57 Water Street\, Plymouth\, MA\, 02360
ATTACH;FMTTYPE=image/jpeg:https://massbytrain.com/wp-content/uploads/2024/05/Herring-Run-Plymouth-2020-Ted-Curtin-K0CHlc.jpe
ORGANIZER;CN="Plimoth Patuxet Museums":MAILTO:info@plimoth.org
END:VEVENT
END:VCALENDAR