BEGIN:VCALENDAR
VERSION:2.0
PRODID:-//Keolis Commuter Services - ECPv6.15.20//NONSGML v1.0//EN
CALSCALE:GREGORIAN
METHOD:PUBLISH
X-ORIGINAL-URL:https://massbytrain.com
X-WR-CALDESC:Events for Keolis Commuter Services
REFRESH-INTERVAL;VALUE=DURATION:PT1H
X-Robots-Tag:noindex
X-PUBLISHED-TTL:PT1H
BEGIN:VTIMEZONE
TZID:America/New_York
BEGIN:DAYLIGHT
TZOFFSETFROM:-0500
TZOFFSETTO:-0400
TZNAME:EDT
DTSTART:20250309T070000
END:DAYLIGHT
BEGIN:STANDARD
TZOFFSETFROM:-0400
TZOFFSETTO:-0500
TZNAME:EST
DTSTART:20251102T060000
END:STANDARD
BEGIN:DAYLIGHT
TZOFFSETFROM:-0500
TZOFFSETTO:-0400
TZNAME:EDT
DTSTART:20260308T070000
END:DAYLIGHT
BEGIN:STANDARD
TZOFFSETFROM:-0400
TZOFFSETTO:-0500
TZNAME:EST
DTSTART:20261101T060000
END:STANDARD
BEGIN:DAYLIGHT
TZOFFSETFROM:-0500
TZOFFSETTO:-0400
TZNAME:EDT
DTSTART:20270314T070000
END:DAYLIGHT
BEGIN:STANDARD
TZOFFSETFROM:-0400
TZOFFSETTO:-0500
TZNAME:EST
DTSTART:20271107T060000
END:STANDARD
END:VTIMEZONE
BEGIN:VEVENT
DTSTART;TZID=America/New_York:20260426T161500
DTEND;TZID=America/New_York:20260426T181500
DTSTAMP:20260423T232001
CREATED:20260318T163454Z
LAST-MODIFIED:20260408T214706Z
UID:10020511-1777220100-1777227300@massbytrain.com
SUMMARY:Therapeutic Mandala Paint Class (Scituate)
DESCRIPTION:Join Amy for a creative and soul-nourishing workshop exploring the beautiful world of Mandalas—sacred circular designs that have been used for centuries as tools for meditation\, intention\, and inner harmony. \nDuring this inspiring experience\, Amy will share the history and meaning behind mandalas and guide you through a gentle practice of intention setting\, balance\, and self-reflection. You’ll then learn simple techniques to create your own personal mandala\, allowing your creativity and intuition to flow onto the page. \nWhether you come with a friend or treat yourself to some peaceful creative time\, this workshop offers a meaningful way to slow down\, reconnect\, and create something uniquely your own.
URL:https://massbytrain.com/event/therapeutic-mandala-paint-class-scituate/
LOCATION:Scituate Salt Cave\, 164 Front Street\, Scituate\, MA\, 02066
ATTACH;FMTTYPE=image/jpeg:https://massbytrain.com/wp-content/uploads/2026/03/Salt-Cave-event-e1773769629457-O5sRYv.jpe
END:VEVENT
BEGIN:VEVENT
DTSTART;TZID=America/New_York:20260509T093000
DTEND;TZID=America/New_York:20260509T093000
DTSTAMP:20260423T232001
CREATED:20260318T163546Z
LAST-MODIFIED:20260408T214843Z
UID:10020512-1778319000-1778319000@massbytrain.com
SUMMARY:Self-Care Techniques of Facial GuaSha (Scituate)
DESCRIPTION:In this interactive experience\, you’ll learn an easy\, step-by-step facial protocol you can incorporate into your daily routine. Using gentle\, intentional strokes\, Facial Gua Sha encourages lymphatic drainage\, helps tone and sculpt the face\, releases tension held in the jaw and brow\, and supports a natural\, radiant complexion. \nBring your mom\, a daughter\, or a friend—this workshop makes a beautiful Mother’s Day gift or a special experience to enjoy together. Leave feeling refreshed\, empowered with a new self-care ritual\, and ready to bring a little spa-like glow into your everyday life.
URL:https://massbytrain.com/event/self-care-techniques-of-facial-guasha-scituate/
LOCATION:Scituate Salt Cave\, 164 Front Street\, Scituate\, MA\, 02066
ATTACH;FMTTYPE=image/jpeg:https://massbytrain.com/wp-content/uploads/2024/05/Scituate-event-e1773770318342-D4LnJc.jpe
END:VEVENT
BEGIN:VEVENT
DTSTART;TZID=America/New_York:20260519T180000
DTEND;TZID=America/New_York:20260519T200000
DTSTAMP:20260423T232001
CREATED:20260320T170835Z
LAST-MODIFIED:20260408T215012Z
UID:10020549-1779213600-1779220800@massbytrain.com
SUMMARY:Cacao Ceremony and Restorative Yoga (Scituate)
DESCRIPTION:A really special night is coming to the Cave—part cacao ceremony\, part deep exhale. Join Amber Gregory and Kristi Cullinane for a Cacao Ceremony + Restorative Yoga experience infused with Reiki and the soothing benefits of Halotherapy. We’ll begin with heart-opening Mother Cacao\, then melt into a gentle restorative practice beneath the twinkling “stars\,” where your body can soften\, your mind can quiet\, and your spirit can reset. \nThis is the kind of experience you don’t realize you need… until you leave feeling lighter\, calmer\, and more you.
URL:https://massbytrain.com/event/cacao-ceremony-and-restorative-yoga-scituate-2/
LOCATION:Scituate Salt Cave\, 164 Front Street\, Scituate\, MA\, 02066
ATTACH;FMTTYPE=image/jpeg:https://massbytrain.com/wp-content/uploads/2024/05/Scituate-Salt-cave-e1768924398303-9eVxJQ.jpe
END:VEVENT
END:VCALENDAR