BEGIN:VCALENDAR
VERSION:2.0
PRODID:-//Keolis Commuter Services - ECPv6.15.20//NONSGML v1.0//EN
CALSCALE:GREGORIAN
METHOD:PUBLISH
X-WR-CALNAME:Keolis Commuter Services
X-ORIGINAL-URL:https://massbytrain.com
X-WR-CALDESC:Events for Keolis Commuter Services
REFRESH-INTERVAL;VALUE=DURATION:PT1H
X-Robots-Tag:noindex
X-PUBLISHED-TTL:PT1H
BEGIN:VTIMEZONE
TZID:America/New_York
BEGIN:DAYLIGHT
TZOFFSETFROM:-0500
TZOFFSETTO:-0400
TZNAME:EDT
DTSTART:20250309T070000
END:DAYLIGHT
BEGIN:STANDARD
TZOFFSETFROM:-0400
TZOFFSETTO:-0500
TZNAME:EST
DTSTART:20251102T060000
END:STANDARD
BEGIN:DAYLIGHT
TZOFFSETFROM:-0500
TZOFFSETTO:-0400
TZNAME:EDT
DTSTART:20260308T070000
END:DAYLIGHT
BEGIN:STANDARD
TZOFFSETFROM:-0400
TZOFFSETTO:-0500
TZNAME:EST
DTSTART:20261101T060000
END:STANDARD
BEGIN:DAYLIGHT
TZOFFSETFROM:-0500
TZOFFSETTO:-0400
TZNAME:EDT
DTSTART:20270314T070000
END:DAYLIGHT
BEGIN:STANDARD
TZOFFSETFROM:-0400
TZOFFSETTO:-0500
TZNAME:EST
DTSTART:20271107T060000
END:STANDARD
END:VTIMEZONE
BEGIN:VEVENT
DTSTART;TZID=America/New_York:20260410T120000
DTEND;TZID=America/New_York:20260517T170000
DTSTAMP:20260421T172231
CREATED:20260404T045836Z
LAST-MODIFIED:20260410T062726Z
UID:10020848-1775822400-1779037200@massbytrain.com
SUMMARY:Emerging Perspectives\, Works by Artists 18-30
DESCRIPTION:‘Emerging Perspectives’ is a juried exhibition illuminating the vital and evolving voices of the region’s next generation of artists. This showcase serves as a bridge between the storied traditions of America’s oldest continuously operating art colony and the imaginative inquiries of creators aged 18 to 30. \nSelected by the RNAC Exhibitions Committee\, the exhibition presents a focused collection of work that captures a moment of professional becoming. Spanning a wide range of media\, the collection reflects a deep commitment to personal exploration and the pursuit of a distinct visual language. By facilitating a dialogue between these rising artists and the established creative lineage of Gloucester\, the Rocky Neck Art Colony continues its 150-year legacy of fostering the future of the arts. \n‘Emerging Perspectives’ is an invitation to witness the initial professional steps of those who will shape our cultural landscape. It offers a rare glimpse into the burgeoning careers of artists as they transition their practice into the public sphere. We invite the community to observe this growth and support the creative spirit that defines our region. \nThe public is invited to celebrate these new perspectives at the Opening Reception on Sunday\, April 12\, 2026\, from 4-6:00pm. Join Rocky Neck Art Colony and the artists to experience the collection\, meet the artists\, and enjoy an afternoon of refreshments and lively conversation. \nGallery Hours: Friday – Sunday\, 12-5pm \nArtwork by: (clockwise) Ben Laird\, Blocks; Ethan LeJeune\, Standing Stones; Rory Kenney\, Be There; Tia Camire\, Prey
URL:https://massbytrain.com/event/emerging-perspectives-works-by-artists-18-30/
LOCATION:The Cultural Center at Rocky Neck\, 6 Wonson Street\, Gloucester\, M\, 01930\, United States
CATEGORIES:Arts,Exhibit,Ongoing
ATTACH;FMTTYPE=image/png:https://massbytrain.com/wp-content/uploads/2024/05/Event-image-2026-hyRx67.png
ORGANIZER;CN="Rocky Neck Art Colony":MAILTO:info@rockyneckartcolony.org
END:VEVENT
BEGIN:VEVENT
DTSTART;TZID=America/New_York:20260423T170000
DTEND;TZID=America/New_York:20260423T190000
DTSTAMP:20260421T172231
CREATED:20260421T091341Z
LAST-MODIFIED:20260421T091341Z
UID:10021312-1776963600-1776970800@massbytrain.com
SUMMARY:Just Looking: A Collection of Drawings and Musings by Linda Kauss
DESCRIPTION:Join multidisciplinary artist Linda Kauss for an evening celebrating “Just Looking: A Collection of Drawings and Musings”\, a deeply personal work rooted in creative exploration and intuition. \n“Just Looking” began in 2005 as an exercise in creative play. With no set outcome in mind\, Kauss explored the movement of graphite and the subtle power of erasure\, allowing organic forms to emerge. The result is a series of unexpected\, evocative images—moments of discovery that have shaped her ongoing artistic practice. \nMeet the artist\, hear selected readings\, and view the artwork behind the book. Copies of “Just Looking” will be available for purchase and signing.
URL:https://massbytrain.com/event/just-looking-a-collection-of-drawings-and-musings-by-linda-kauss/
LOCATION:The Cultural Center at Rocky Neck\, 6 Wonson Street\, Gloucester\, M\, 01930\, United States
CATEGORIES:Arts,Cultural,Lecture/Talk
ATTACH;FMTTYPE=image/jpeg:https://massbytrain.com/wp-content/uploads/2024/05/IMG_9427-kFnbwS.jpe
ORGANIZER;CN="Rocky Neck Art Colony":MAILTO:info@rockyneckartcolony.org
END:VEVENT
END:VCALENDAR